BEGIN:VCALENDAR
VERSION:2.0
PRODID:-//Hunmanby Playing Fields Association Sports &amp; Social Club - ECPv6.15.20//NONSGML v1.0//EN
CALSCALE:GREGORIAN
METHOD:PUBLISH
X-WR-CALNAME:Hunmanby Playing Fields Association Sports &amp; Social Club
X-ORIGINAL-URL:https://hunmanbyplayingfieldsassociation.co.uk
X-WR-CALDESC:Events for Hunmanby Playing Fields Association Sports &amp; Social Club
REFRESH-INTERVAL;VALUE=DURATION:PT1H
X-Robots-Tag:noindex
X-PUBLISHED-TTL:PT1H
BEGIN:VTIMEZONE
TZID:Europe/London
BEGIN:DAYLIGHT
TZOFFSETFROM:+0000
TZOFFSETTO:+0100
TZNAME:BST
DTSTART:20240331T010000
END:DAYLIGHT
BEGIN:STANDARD
TZOFFSETFROM:+0100
TZOFFSETTO:+0000
TZNAME:GMT
DTSTART:20241027T010000
END:STANDARD
BEGIN:DAYLIGHT
TZOFFSETFROM:+0000
TZOFFSETTO:+0100
TZNAME:BST
DTSTART:20250330T010000
END:DAYLIGHT
BEGIN:STANDARD
TZOFFSETFROM:+0100
TZOFFSETTO:+0000
TZNAME:GMT
DTSTART:20251026T010000
END:STANDARD
BEGIN:DAYLIGHT
TZOFFSETFROM:+0000
TZOFFSETTO:+0100
TZNAME:BST
DTSTART:20260329T010000
END:DAYLIGHT
BEGIN:STANDARD
TZOFFSETFROM:+0100
TZOFFSETTO:+0000
TZNAME:GMT
DTSTART:20261025T010000
END:STANDARD
END:VTIMEZONE
BEGIN:VEVENT
DTSTART;TZID=Europe/London:20250422T183000
DTEND;TZID=Europe/London:20250422T230000
DTSTAMP:20260420T122922
CREATED:20250226T184054Z
LAST-MODIFIED:20250226T184054Z
UID:224-1745346600-1745362800@hunmanbyplayingfieldsassociation.co.uk
SUMMARY:An evening of Clairvoyance with Marina Nicholson - Tickets Only
DESCRIPTION:Raising funds for Elsie’s Arc and the Yorkshire Ambulance. \nPurchase your ticket from Sara on 07533 741937.
URL:https://hunmanbyplayingfieldsassociation.co.uk/event/an-evening-of-clairvoyance-with-marina-nicholson-tickets-only/
END:VEVENT
END:VCALENDAR